Workbook

Sheet КП
E2: Selby China / CNY прайс Основа: v6, стиль и формулы сохранены
B4: Расчет № ________ от ________ г.
A6: № | B6: НАИМЕНОВАНИЕ | C6: СТОИМОСТЬ | D6: ЕД. ИЗ. | E6: КОЛИЧЕСТВО | F6: СУММА
B7: УСЛУГИ ПО УПАКОВКЕ ТОВАРА | E7: ⠀
A8: 1 | B8: Приёмка товара на склад (в штуках) | C8: =IF($E8<=199,VLOOKUP($B8,'Прайс-лист'!$B$17:$F$95,2,0),IF($E8>=500,VLOOKUP($B8,'Прайс-лист'!$B$17:$F$95,4,0),VLOOKUP($B8,'Прайс-лист'!$B$17:$F$95,3,0))) -> 0.25 | D8: ='Прайс-лист'!F17 -> ¥/шт | F8: =E8*C8 -> 0
A9: 2 | B9: Приёмка товара на склад (в коробках) | C9: =IF($E9<=199,VLOOKUP($B9,'Прайс-лист'!$B$17:$F$95,2,0),IF($E9>=500,VLOOKUP($B9,'Прайс-лист'!$B$17:$F$95,4,0),VLOOKUP($B9,'Прайс-лист'!$B$17:$F$95,3,0))) -> 0.66 | D9: ='Прайс-лист'!F18 -> ¥/короб | F9: =E9*C9 -> 0
A10: 3 | B10: Визуальный осмотр товара на брак | C10: =IF($E10<=199,VLOOKUP($B10,'Прайс-лист'!$B$17:$F$95,2,0),IF($E10>=500,VLOOKUP($B10,'Прайс-лист'!$B$17:$F$95,4,0),VLOOKUP($B10,'Прайс-лист'!$B$17:$F$95,3,0))) -> 0.41 | D10: ='Прайс-лист'!F19 -> ¥ | F10: =E10*C10 -> 0
A11: 4 | B11: Детальный осмотр (выявление брака, проверка комплекта и др.) | C11: =IF($E11<=199,VLOOKUP($B11,'Прайс-лист'!$B$17:$F$95,2,0),IF($E11>=500,VLOOKUP($B11,'Прайс-лист'!$B$17:$F$95,4,0),VLOOKUP($B11,'Прайс-лист'!$B$17:$F$95,3,0))) -> 0.83 | D11: ='Прайс-лист'!F20 -> ¥ | F11: =E11*C11 -> 0
A12: 5 | B12: Проверка товара на брак электромеханических приборов (проверка от сети, от аккумуляторов) | C12: =IF($E12<=199,VLOOKUP($B12,'Прайс-лист'!$B$17:$F$95,2,0),IF($E12>=500,VLOOKUP($B12,'Прайс-лист'!$B$17:$F$95,4,0),VLOOKUP($B12,'Прайс-лист'!$B$17:$F$95,3,0))) -> 1.16 | D12: ='Прайс-лист'!F21 -> ¥ | F12: =E12*C12 -> 0
A13: 6 | B13: Удаление следов старой упаковки, скотча, вкладыша и пр.
A14: 6.1 | B14: Категория 1 (до 20 см) | C14: =IF($E14<=199,VLOOKUP($B14,'Прайс-лист'!$B$23:$F$29,2,0),IF($E14>=500,VLOOKUP($B14,'Прайс-лист'!$B$23:$F$29,4,0),VLOOKUP($B14,'Прайс-лист'!$B$23:$F$29,3,0))) -> 0.83 | D14: ='Прайс-лист'!F23 -> ¥ | F14: =E14*C14 -> 0
A15: 6.2 | B15: Категория 2 (до 40 см) | C15: =IF($E15<=199,VLOOKUP($B15,'Прайс-лист'!$B$23:$F$29,2,0),IF($E15>=500,VLOOKUP($B15,'Прайс-лист'!$B$23:$F$29,4,0),VLOOKUP($B15,'Прайс-лист'!$B$23:$F$29,3,0))) -> 1.16 | D15: ='Прайс-лист'!F24 -> ¥ | F15: =E15*C15 -> 0
A16: 6.3 | B16: Категория 3 (до 60 см) | C16: =IF($E16<=199,VLOOKUP($B16,'Прайс-лист'!$B$23:$F$29,2,0),IF($E16>=500,VLOOKUP($B16,'Прайс-лист'!$B$23:$F$29,4,0),VLOOKUP($B16,'Прайс-лист'!$B$23:$F$29,3,0))) -> 1.5 | D16: ='Прайс-лист'!F25 -> ¥ | F16: =E16*C16 -> 0
A17: 6.4 | B17: Категория 4 (до 80 см) | C17: =IF($E17<=199,VLOOKUP($B17,'Прайс-лист'!$B$23:$F$29,2,0),IF($E17>=500,VLOOKUP($B17,'Прайс-лист'!$B$23:$F$29,4,0),VLOOKUP($B17,'Прайс-лист'!$B$23:$F$29,3,0))) -> 1.83 | D17: ='Прайс-лист'!F26 -> ¥ | F17: =E17*C17 -> 0
A18: 6.5 | B18: Категория 5 (до 100 см) | C18: =IF($E18<=199,VLOOKUP($B18,'Прайс-лист'!$B$23:$F$29,2,0),IF($E18>=500,VLOOKUP($B18,'Прайс-лист'!$B$23:$F$29,4,0),VLOOKUP($B18,'Прайс-лист'!$B$23:$F$29,3,0))) -> 2.16 | D18: ='Прайс-лист'!F27 -> ¥ | F18: =E18*C18 -> 0
A19: 6.6 | B19: Категория 6 (до 130 см) | C19: =IF($E19<=199,VLOOKUP($B19,'Прайс-лист'!$B$23:$F$29,2,0),IF($E19>=500,VLOOKUP($B19,'Прайс-лист'!$B$23:$F$29,4,0),VLOOKUP($B19,'Прайс-лист'!$B$23:$F$29,3,0))) -> 2.57 | D19: ='Прайс-лист'!F28 -> ¥ | F19: =E19*C19 -> 0
A20: 6.7 | B20: Категория 7 (до 150 см) | C20: =IF($E20<=199,VLOOKUP($B20,'Прайс-лист'!$B$23:$F$29,2,0),IF($E20>=500,VLOOKUP($B20,'Прайс-лист'!$B$23:$F$29,4,0),VLOOKUP($B20,'Прайс-лист'!$B$23:$F$29,3,0))) -> 2.91 | D20: ='Прайс-лист'!F29 -> ¥ | F20: =E20*C20 -> 0
A22: 7 | B22: Удаление бумажной бирки | C22: =IF($E22<=199,VLOOKUP($B22,'Прайс-лист'!$B$17:$F$95,2,0),IF($E22>=500,VLOOKUP($B22,'Прайс-лист'!$B$17:$F$95,4,0),VLOOKUP($B22,'Прайс-лист'!$B$17:$F$95,3,0))) -> 0.33 | D22: ='Прайс-лист'!F31 -> ¥ | F22: =E22*C22 -> 0
A23: 8 | B23: Отрезание ниток | C23: =IF($E23<=199,VLOOKUP($B23,'Прайс-лист'!$B$17:$F$95,2,0),IF($E23>=500,VLOOKUP($B23,'Прайс-лист'!$B$17:$F$95,4,0),VLOOKUP($B23,'Прайс-лист'!$B$17:$F$95,3,0))) -> 0.41 | D23: ='Прайс-лист'!F32 -> ¥ | F23: =E23*C23 -> 0
A24: 9 | B24: Перешив тканевой этикетки (удалить старую и пришить новую тканевую этикетку) | C24: =IF($E24<=199,VLOOKUP($B24,'Прайс-лист'!$B$17:$F$95,2,0),IF($E24>=500,VLOOKUP($B24,'Прайс-лист'!$B$17:$F$95,4,0),VLOOKUP($B24,'Прайс-лист'!$B$17:$F$95,3,0))) -> 3.32 | D24: ='Прайс-лист'!F33 -> ¥ | F24: =E24*C24 -> 0
A25: 10 | B25: Крепление бумажной бирки на изделие | C25: =IF($E25<=199,VLOOKUP($B25,'Прайс-лист'!$B$17:$F$95,2,0),IF($E25>=500,VLOOKUP($B25,'Прайс-лист'!$B$17:$F$95,4,0),VLOOKUP($B25,'Прайс-лист'!$B$17:$F$95,3,0))) -> 0.5 | D25: ='Прайс-лист'!F34 -> ¥ | F25: =E25*C25 -> 0
A26: 11 | B26: Вложение вкладыша | C26: =IF($E26<=199,VLOOKUP($B26,'Прайс-лист'!$B$17:$F$95,2,0),IF($E26>=500,VLOOKUP($B26,'Прайс-лист'!$B$17:$F$95,4,0),VLOOKUP($B26,'Прайс-лист'!$B$17:$F$95,3,0))) -> 0.41 | D26: ='Прайс-лист'!F35 -> ¥ | F26: =E26*C26 -> 0
A27: 12 | B27: Сборка товаров в комплект
A28: 12.1 | B28: Категория 1 (до 20 см) | C28: =IF($E28<=199,VLOOKUP($B28,'Прайс-лист'!$B$37:$F$43,2,0),IF($E28>=500,VLOOKUP($B28,'Прайс-лист'!$B$37:$F$43,4,0),VLOOKUP($B28,'Прайс-лист'!$B$37:$F$43,3,0))) -> 0.83 | D28: ='Прайс-лист'!F37 -> ¥ | F28: =E28*C28 -> 0
A29: 12.2 | B29: Категория 2 (до 40 см) | C29: =IF($E29<=199,VLOOKUP($B29,'Прайс-лист'!$B$37:$F$43,2,0),IF($E29>=500,VLOOKUP($B29,'Прайс-лист'!$B$37:$F$43,4,0),VLOOKUP($B29,'Прайс-лист'!$B$37:$F$43,3,0))) -> 1.16 | D29: ='Прайс-лист'!F38 -> ¥ | F29: =E29*C29 -> 0
A30: 12.3 | B30: Категория 3 (до 60 см) | C30: =IF($E30<=199,VLOOKUP($B30,'Прайс-лист'!$B$37:$F$43,2,0),IF($E30>=500,VLOOKUP($B30,'Прайс-лист'!$B$37:$F$43,4,0),VLOOKUP($B30,'Прайс-лист'!$B$37:$F$43,3,0))) -> 1.5 | D30: ='Прайс-лист'!F39 -> ¥ | F30: =E30*C30 -> 0
A31: 12.4 | B31: Категория 4 (до 80 см) | C31: =IF($E31<=199,VLOOKUP($B31,'Прайс-лист'!$B$37:$F$43,2,0),IF($E31>=500,VLOOKUP($B31,'Прайс-лист'!$B$37:$F$43,4,0),VLOOKUP($B31,'Прайс-лист'!$B$37:$F$43,3,0))) -> 1.83 | D31: ='Прайс-лист'!F40 -> ¥ | F31: =E31*C31 -> 0
A32: 12.5 | B32: Категория 5 (до 100 см) | C32: =IF($E32<=199,VLOOKUP($B32,'Прайс-лист'!$B$37:$F$43,2,0),IF($E32>=500,VLOOKUP($B32,'Прайс-лист'!$B$37:$F$43,4,0),VLOOKUP($B32,'Прайс-лист'!$B$37:$F$43,3,0))) -> 2.16 | D32: ='Прайс-лист'!F41 -> ¥ | F32: =E32*C32 -> 0
A33: 12.6 | B33: Категория 6 (до 130 см) | C33: =IF($E33<=199,VLOOKUP($B33,'Прайс-лист'!$B$37:$F$43,2,0),IF($E33>=500,VLOOKUP($B33,'Прайс-лист'!$B$37:$F$43,4,0),VLOOKUP($B33,'Прайс-лист'!$B$37:$F$43,3,0))) -> 2.57 | D33: ='Прайс-лист'!F42 -> ¥ | F33: =E33*C33 -> 0
A34: 12.7 | B34: Категория 7 (до 150 см) | C34: =IF($E34<=199,VLOOKUP($B34,'Прайс-лист'!$B$37:$F$43,2,0),IF($E34>=500,VLOOKUP($B34,'Прайс-лист'!$B$37:$F$43,4,0),VLOOKUP($B34,'Прайс-лист'!$B$37:$F$43,3,0))) -> 2.91 | D34: ='Прайс-лист'!F43 -> ¥ | F34: =E34*C34 -> 0
A36: 13 | B36: Сортировка товара по цвету, размеру и т.д. | C36: =IF($E36<=199,VLOOKUP($B36,'Прайс-лист'!$B$17:$F$95,2,0),IF($E36>=500,VLOOKUP($B36,'Прайс-лист'!$B$17:$F$95,4,0),VLOOKUP($B36,'Прайс-лист'!$B$17:$F$95,3,0))) -> 0.41 | D36: ='Прайс-лист'!F45 -> ¥ | F36: =E36*C36 -> 0
A37: 14 | B37: Глажка / отпаривание одежды | C37: =IF($E37<=199,VLOOKUP($B37,'Прайс-лист'!$B$17:$F$95,2,0),IF($E37>=500,VLOOKUP($B37,'Прайс-лист'!$B$17:$F$95,4,0),VLOOKUP($B37,'Прайс-лист'!$B$17:$F$95,3,0))) -> 6.64 | D37: ='Прайс-лист'!F46 -> ¥ | F37: =E37*C37 -> 0
A38: 15 | B38: Упаковка в короб
A39: 15.1 | B39: Категория 1 (до 20 см) | C39: =IF($E39<=199,VLOOKUP($B39,'Прайс-лист'!$B$48:$F$54,2,0),IF($E39>=500,VLOOKUP($B39,'Прайс-лист'!$B$48:$F$54,4,0),VLOOKUP($B39,'Прайс-лист'!$B$48:$F$54,3,0))) -> 0.83 | D39: ='Прайс-лист'!F48 -> ¥ | F39: =E39*C39 -> 0
A40: 15.2 | B40: Категория 2 (до 40 см) | C40: =IF($E40<=199,VLOOKUP($B40,'Прайс-лист'!$B$48:$F$54,2,0),IF($E40>=500,VLOOKUP($B40,'Прайс-лист'!$B$48:$F$54,4,0),VLOOKUP($B40,'Прайс-лист'!$B$48:$F$54,3,0))) -> 1.16 | D40: ='Прайс-лист'!F49 -> ¥ | F40: =E40*C40 -> 0
A41: 15.3 | B41: Категория 3 (до 60 см) | C41: =IF($E41<=199,VLOOKUP($B41,'Прайс-лист'!$B$48:$F$54,2,0),IF($E41>=500,VLOOKUP($B41,'Прайс-лист'!$B$48:$F$54,4,0),VLOOKUP($B41,'Прайс-лист'!$B$48:$F$54,3,0))) -> 1.5 | D41: ='Прайс-лист'!F50 -> ¥ | F41: =E41*C41 -> 0
A42: 15.4 | B42: Категория 4 (до 80 см) | C42: =IF($E42<=199,VLOOKUP($B42,'Прайс-лист'!$B$48:$F$54,2,0),IF($E42>=500,VLOOKUP($B42,'Прайс-лист'!$B$48:$F$54,4,0),VLOOKUP($B42,'Прайс-лист'!$B$48:$F$54,3,0))) -> 1.83 | D42: ='Прайс-лист'!F51 -> ¥ | F42: =E42*C42 -> 0
A43: 15.5 | B43: Категория 5 (до 100 см) | C43: =IF($E43<=199,VLOOKUP($B43,'Прайс-лист'!$B$48:$F$54,2,0),IF($E43>=500,VLOOKUP($B43,'Прайс-лист'!$B$48:$F$54,4,0),VLOOKUP($B43,'Прайс-лист'!$B$48:$F$54,3,0))) -> 2.16 | D43: ='Прайс-лист'!F52 -> ¥ | F43: =E43*C43 -> 0
A44: 15.6 | B44: Категория 6 (до 130 см) | C44: =IF($E44<=199,VLOOKUP($B44,'Прайс-лист'!$B$48:$F$54,2,0),IF($E44>=500,VLOOKUP($B44,'Прайс-лист'!$B$48:$F$54,4,0),VLOOKUP($B44,'Прайс-лист'!$B$48:$F$54,3,0))) -> 2.57 | D44: ='Прайс-лист'!F53 -> ¥ | F44: =E44*C44 -> 0
A45: 15.7 | B45: Категория 7 (до 150 см) | C45: =IF($E45<=199,VLOOKUP($B45,'Прайс-лист'!$B$48:$F$54,2,0),IF($E45>=500,VLOOKUP($B45,'Прайс-лист'!$B$48:$F$54,4,0),VLOOKUP($B45,'Прайс-лист'!$B$48:$F$54,3,0))) -> 2.91 | D45: ='Прайс-лист'!F54 -> ¥ | F45: =E45*C45 -> 0
...

Sheet Прайс-лист
A13: УСЛУГИ ПО УПАКОВКЕ ТОВАРА
A15: № | B15: НАИМЕНОВАНИЕ | C15: СТОИМОСТЬ | F15: ЕД.ИЗМ
C16: до 199 шт. | D16: от 200 до 499 шт. | E16: от 500 шт.
A17: 1 | B17: Приёмка товара на склад (в штуках) | C17: =D17 -> 0.25 | D17: 0.25 | E17: =D17 -> 0.25 | F17: ¥/шт | G17: v10: цена установлена как 80% от российского v6 по текущему курсу CNY/RUB.
A18: 2 | B18: Приёмка товара на склад (в коробках) | C18: =D18 -> 0.66 | D18: 0.66 | E18: =D18 -> 0.66 | F18: ¥/короб | G18: v10: цена установлена как 80% от российского v6 по текущему курсу CNY/RUB.
A19: 3 | B19: Визуальный осмотр товара на брак | C19: 0.41 | D19: 0.33 | E19: 0.25 | F19: ¥ | G19: v10: цена установлена как 80% от российского v6 по текущему курсу CNY/RUB.
A20: 4 | B20: Детальный осмотр (выявление брака, проверка комплекта и др.) | C20: 0.83 | D20: 0.75 | E20: 0.66 | F20: ¥ | G20: v10: цена установлена как 80% от российского v6 по текущему курсу CNY/RUB.
A21: 5 | B21: Проверка товара на брак электромеханических приборов (проверка от сети, от аккумуляторов) | C21: 1.16 | D21: 1 | E21: 0.83 | F21: ¥ | G21: v10: цена установлена как 80% от российского v6 по текущему курсу CNY/RUB.
A22: 6 | B22: Категория 1 (до 20 см) | C22: 0.83 | D22: 0.66 | E22: 0.5 | F22: =VLOOKUP($B22,'Прайс-лист'!$B$23:$F$29,5,0) -> ¥ | G22: v10: цена установлена как 80% от российского v6 по текущему курсу CNY/RUB.
A23: 7 | B23: Категория 1 (до 20 см) | C23: 0.83 | D23: 0.66 | E23: 0.5 | F23: ¥ | G23: v10: цена установлена как 80% от российского v6 по текущему курсу CNY/RUB.
A24: 8 | B24: Категория 2 (до 40 см) | C24: 1.16 | D24: 0.91 | E24: 0.75 | F24: ¥ | G24: v10: цена установлена как 80% от российского v6 по текущему курсу CNY/RUB.
A25: 9 | B25: Категория 3 (до 60 см) | C25: 1.5 | D25: 1.16 | E25: 0.91 | F25: ¥ | G25: v10: цена установлена как 80% от российского v6 по текущему курсу CNY/RUB.
A26: 10 | B26: Категория 4 (до 80 см) | C26: 1.83 | D26: 1.5 | E26: 1.16 | F26: ¥ | G26: v10: цена установлена как 80% от российского v6 по текущему курсу CNY/RUB.
A27: 11 | B27: Категория 5 (до 100 см) | C27: 2.16 | D27: 1.74 | E27: 1.41 | F27: ¥ | G27: v10: цена установлена как 80% от российского v6 по текущему курсу CNY/RUB.
A28: 12 | B28: Категория 6 (до 130 см) | C28: 2.57 | D28: 2.08 | E28: 1.66 | F28: ¥ | G28: v10: цена установлена как 80% от российского v6 по текущему курсу CNY/RUB.
A29: 13 | B29: Категория 7 (до 150 см) | C29: 2.91 | D29: 2.32 | E29: 1.83 | F29: ¥ | G29: v10: цена установлена как 80% от российского v6 по текущему курсу CNY/RUB.
A31: 14 | B31: Удаление бумажной бирки | C31: 0.33 | D31: 0.25 | E31: 0.17 | F31: ¥ | G31: v10: цена установлена как 80% от российского v6 по текущему курсу CNY/RUB.
A32: 15 | B32: Отрезание ниток | C32: 0.41 | D32: 0.33 | E32: 0.25 | F32: ¥ | G32: v10: цена установлена как 80% от российского v6 по текущему курсу CNY/RUB.
A33: 16 | B33: Перешив тканевой этикетки (удалить старую и пришить новую тканевую этикетку) | C33: 3.32 | D33: 2.91 | E33: 2.49 | F33: ¥ | G33: v10: цена установлена как 80% от российского v6 по текущему курсу CNY/RUB.
A34: 17 | B34: Крепление бумажной бирки на изделие | C34: 0.5 | D34: 0.41 | E34: 0.33 | F34: ¥ | G34: v10: цена установлена как 80% от российского v6 по текущему курсу CNY/RUB.
A35: 18 | B35: Вложение вкладыша | C35: 0.41 | D35: 0.33 | E35: 0.25 | F35: ¥ | G35: v10: цена установлена как 80% от российского v6 по текущему курсу CNY/RUB.
A36: 19 | B36: Категория 1 (до 20 см) | C36: 0.83 | D36: 0.66 | E36: 0.5 | F36: =VLOOKUP($B36,'Прайс-лист'!$B$37:$F$43,5,0) -> ¥ | G36: v10: цена установлена как 80% от российского v6 по текущему курсу CNY/RUB.
A37: 20 | B37: Категория 1 (до 20 см) | C37: 0.83 | D37: 0.66 | E37: 0.5 | F37: ¥ | G37: v10: цена установлена как 80% от российского v6 по текущему курсу CNY/RUB.
A38: 21 | B38: Категория 2 (до 40 см) | C38: 1.16 | D38: 0.91 | E38: 0.75 | F38: ¥ | G38: v10: цена установлена как 80% от российского v6 по текущему курсу CNY/RUB.
A39: 22 | B39: Категория 3 (до 60 см) | C39: 1.5 | D39: 1.16 | E39: 0.91 | F39: ¥ | G39: v10: цена установлена как 80% от российского v6 по текущему курсу CNY/RUB.
A40: 23 | B40: Категория 4 (до 80 см) | C40: 1.83 | D40: 1.5 | E40: 1.16 | F40: ¥ | G40: v10: цена установлена как 80% от российского v6 по текущему курсу CNY/RUB.
A41: 24 | B41: Категория 5 (до 100 см) | C41: 2.16 | D41: 1.74 | E41: 1.41 | F41: ¥ | G41: v10: цена установлена как 80% от российского v6 по текущему курсу CNY/RUB.
A42: 25 | B42: Категория 6 (до 130 см) | C42: 2.57 | D42: 2.08 | E42: 1.66 | F42: ¥ | G42: v10: цена установлена как 80% от российского v6 по текущему курсу CNY/RUB.
A43: 26 | B43: Категория 7 (до 150 см) | C43: 2.91 | D43: 2.32 | E43: 1.83 | F43: ¥ | G43: v10: цена установлена как 80% от российского v6 по текущему курсу CNY/RUB.
A45: 27 | B45: Сортировка товара по цвету, размеру и т.д. | C45: 0.41 | D45: 0.33 | E45: 0.25 | F45: ¥ | G45: v10: цена установлена как 80% от российского v6 по текущему курсу CNY/RUB.
A46: 28 | B46: Глажка / отпаривание одежды | C46: 6.64 | D46: 5.81 | E46: 4.98 | F46: ¥ | G46: v10: цена установлена как 80% от российского v6 по текущему курсу CNY/RUB.
A47: 29 | B47: Категория 1 (до 20 см) | C47: 0.83 | D47: 0.66 | E47: 0.5 | F47: =VLOOKUP($B47,'Прайс-лист'!$B$48:$F$54,5,0) -> ¥ | G47: v10: цена установлена как 80% от российского v6 по текущему курсу CNY/RUB.
A48: 30 | B48: Категория 1 (до 20 см) | C48: 0.83 | D48: 0.66 | E48: 0.5 | F48: ¥ | G48: v10: цена установлена как 80% от российского v6 по текущему курсу CNY/RUB.
A49: 31 | B49: Категория 2 (до 40 см) | C49: 1.16 | D49: 0.91 | E49: 0.75 | F49: ¥ | G49: v10: цена установлена как 80% от российского v6 по текущему курсу CNY/RUB.
A50: 32 | B50: Категория 3 (до 60 см) | C50: 1.5 | D50: 1.16 | E50: 0.91 | F50: ¥ | G50: v10: цена установлена как 80% от российского v6 по текущему курсу CNY/RUB.
A51: 33 | B51: Категория 4 (до 80 см) | C51: 1.83 | D51: 1.5 | E51: 1.16 | F51: ¥ | G51: v10: цена установлена как 80% от российского v6 по текущему курсу CNY/RUB.
A52: 34 | B52: Категория 5 (до 100 см) | C52: 2.16 | D52: 1.74 | E52: 1.41 | F52: ¥ | G52: v10: цена установлена как 80% от российского v6 по текущему курсу CNY/RUB.
A53: 35 | B53: Категория 6 (до 130 см) | C53: 2.57 | D53: 2.08 | E53: 1.66 | F53: ¥ | G53: v10: цена установлена как 80% от российского v6 по текущему курсу CNY/RUB.
A54: 36 | B54: Категория 7 (до 150 см) | C54: 2.91 | D54: 2.32 | E54: 1.83 | F54: ¥ | G54: v10: цена установлена как 80% от российского v6 по текущему курсу CNY/RUB.
A56: 37 | B56: Упаковка в ZIP пакет | C56: 0.5 | D56: 0.41 | E56: 0.33 | F56: ¥ | G56: v10: цена установлена как 80% от российского v6 по текущему курсу CNY/RUB.
...

Sheet Источники_цен
A1: Позиция | B1: Цена в прайсе | C1: Ед. изм. | D1: Средний рынок ¥ | E1: Источник | F1: confidence | G1: Логика
A2: Базовые строки v6 | B2: исходная цена / 10.449321 | C2: конвертация в ¥ | E2: Прайс Selby v6 | F2: B | G2: Все исходные цены v6 переведены в юани, формулы сохранены.
A3: Расчёт unit-экономики под Китай | B3: 72 | C3: ¥/проект | D3: 72 | E3: Тарифы ведения Станислава | F3: B | G3: Адаптация блока ведения: экономика закупки, склада, доставки и маржи.
A4: Создание/адаптация карточки товара | B4: 72 | C4: ¥/SKU | D4: 72 | E4: Тарифы ведения Станислава | F4: C | G4: Канал продаж и язык фиксируются в задаче.
A5: ТЗ дизайнеру инфографики/контента | B5: 72 | C5: ¥/SKU | D5: 72 | E5: Тарифы ведения Станислава | F5: C | G5: Производство дизайна отдельно.
A6: Настройка операционного контура: склад, перевозчик, маршрут | B6: 718 | C6: ¥/проект | D6: 718 | E6: Тарифы ведения Станислава | F6: B | G6: Не доставка как тариф, а организационная настройка процесса.
A7: Создание поставки и ТЗ китайскому фулфилменту | B7: 144 | C7: ¥/поставка | D7: 144 | E7: Тарифы ведения Станислава | F7: B | G7: ТЗ складу, контроль приёмки и состава работ.
A8: Контроль остатков и планирование поставок | B8: 144 | C8: ¥/мес/SKU | D8: 144 | E8: Тарифы ведения Станислава | F8: B | G8: По данным из файла ведения, адаптировано под китайский склад.
A9: Ответы на отзывы, вопросы и чаты покупателей | B9: 72 | C9: ¥/мес/канал | D9: 72 | E9: Тарифы ведения Станислава | F9: C | G9: Нужен язык поддержки, SLA и канал продаж.
A10: Работа с возвратами: рассмотрение и решение | B10: 72 | C10: ¥/мес/канал | D10: 72 | E10: Тарифы ведения Станислава | F10: B | G10: Правила возвратов зависят от канала продаж.
A11: Ручная приемка места/короба до 200 кг | B11: 7.66 | C11: ¥/место | D11: 7.66 | E11: КП одежда Станислава | F11: A | G11: Прямой тариф из предоставленного КП, переведён в юани.
A12: Детальная проверка одежды: швы, пятна, фурнитура, замеры | B12: 2.68 | C12: ¥/шт. | D12: 2.68 | E12: КП одежда Станислава | F12: A | G12: Прямой тариф из предоставленного КП, переведён в юани.
A13: Проверка вшивника и этикеток | B13: 0.57 | C13: ¥/шт. | D13: 0.57 | E13: КП одежда Станислава | F13: A | G13: Прямой тариф из предоставленного КП, переведён в юани.
A14: Маркировка комплектом этикеток / код маркировки / короб | B14: 1.15 | C14: ¥/шт. | D14: 1.15 | E14: КП одежда Станислава | F14: A | G14: Прямой тариф из предоставленного КП, переведён в юани.
... A17: Формирование мешка / групповой транспортной упаковки | B17: 14.35 | C17: ¥/место | D17: 14.35 | E17: КП одежда Станислава | F17: A | G17: Прямой тариф из предоставленного КП, переведён в юани.
A18: Переупаковка / замена упаковки | B18: по запросу | C18: ¥/шт. | D18: 0.5-5 | E18: Benchmark China raw rows | F18: B | G18: Рынок даёт широкий диапазон 0.5-5 ¥; для прайса оставлено согласование.
A19: Индивидуальная / брендовая упаковка | B19: по запросу | C19: ¥/заказ | D19: 3-10 | E19: Benchmark China raw rows | F19: C | G19: Рыночный ориентир 3-10 ¥, но цена зависит от макета, материала и тиража.
A20: Возвратная обработка: осмотр + переупаковка | B20: по запросу | C20: ¥/шт./заказ | D20: 0.8-34 | E20: Benchmark China raw rows | F20: B | G20: Ориентир 0.8-34 ¥; нужен сценарий возврата.
A21: Печать документа / грузового листа | B21: 20 | C21: ¥/документ | D21: 20 | E21: Benchmark China raw rows | F21: A | G21: Рыночный ориентир из китайского складского прайса.
A22: Льготное хранение товара с движением | B22: 0 | C22: ¥/14 дней | D22: 0 | E22: Benchmark 29.05 | F22: A | G22: Рынок часто даёт 30-60 дней бесплатно; в прайсе ограничено 14 днями.
A23: Хранение по объёму, обычный облачный склад | B23: по запросу | C23: ¥/м3/сутки | D23: 0.1-0.5 | E23: Benchmark China raw rows | F23: B | G23: Рыночный ориентир 0.1-0.5 ¥; зависит от города и типа склада.
A24: Хранение по площади | B24: по запросу | C24: ¥/м2/сутки | D24: 0.5-3 | E24: Benchmark China raw rows | F24: B | G24: Рыночный ориентир 0.5-3 ¥; для нестандартного хранения.
A25: Лёгкая ручная погрузка/разгрузка | B25: по запросу | C25: ¥/шт. | D25: 0.1-0.8 | E25: Benchmark China raw rows | F25: B | G25: Рыночный ориентир 0.1-0.8 ¥; нужны лимиты веса.
A26: Механизированная погрузка/разгрузка | B26: по запросу | C26: ¥/операция | D26: 50-100 | E26: Benchmark China raw rows | F26: B | G26: Рыночный ориентир 50-100 ¥; город и техника влияют на цену.
A30: Сборка/обработка заказа: первый товар | B30: по запросу | C30: ¥/заказ | D30: 3-5 | E30: Benchmark 29.05 | F30: B | G30: Средний рынок 3-5 ¥; в v6 отдельного order-handling нет.
A31: Дополнительный товар в заказе | B31: по запросу | C31: ¥/шт. | D31: 0.8-1.8 | E31: Benchmark 29.05 | F31: B | G31: Средний рынок 0.8-1.8 ¥; нужно для заказов с 2+ товарами.
A32: Выездная инспекция фабрики / партии | B32: по согласованию | C32: ¥/день | D32: по согласованию | E32: Benchmark 29.05 | F32: RFQ | G32: Город, длительность, чек-лист, фото/видео и дорога меняют цену.
A33: Функциональная проверка сложной техники | B33: по согласованию | C33: ¥/шт. | D33: по согласованию | E33: Benchmark 29.05 | F33: RFQ | G33: Нужен чек-лист, норма времени и риск ответственности.

Sheet Контроль_CNY
A1: Проверка | B1: Статус | C1: Комментарий
A2: Основа | B2: ok | C2: Файл создан копией v6, без перестройки строк и без удаления раздела материалов.
A3: Цены | B3: ok | C3: Источник цен по умолчанию: v6, конвертация в юани по курсу 1 CNY = 10.449321.
A4: Формулы | B4: ok | C4: Формулы КП сохранены; логика выбора цены по количеству через IF/VLOOKUP осталась как в v6.
A5: Операционный контур | B5: ok | C5: Раздел операционного контура и доставочные строки FBS скрыты и исключены из итоговой формулы услуг.
A6: Материалы | B6: ok | C6: Раздел материалов оставлен видимым; формулы материалов сохранены.
A7: Дополнительные позиции | B7: ok | C7: Позиции, которых не было в v6, добавлены отдельным блоком без сдвига строк; источник каждой цены на листе `Источники_цен`.
A8: Убрано | B8: ok | C8: Скрыты разделы фото, старые разовые услуги, наставничество и операционный контур.
A9: Материалы | B9: ok | C9: Упаковочные материалы: позиции 1-8 восстановлены как 4 ПВД-рукав + 4 Пленка ТУ; БОПП без размеров; добавлены ВПП, 2 короба без размеров, бирка/биркодержатель/лист гофрокартона; лишние складские расходники удалены с поверхности; цены по запросу.
A10: Дата | B10: info | C10: 2026-05-29 07:08 MSK
A11: V9 visual | B11: ok | C11: Клиентский лист пересобран на базе российского visual master v6; CNY-значения взяты из v8.
A12: V9 images | B12: ok | C12: Нижние изображения перенесены после фактического конца таблицы, якорь за пределами таблицы убран.
... A14: V10 pricing | B14: ok | C14: Сопоставимые с российским v6 строки пересчитаны: CN = RU / 10.4712 × 0.8. Изменено строк: 57.

Sheet Рынок_Китая
A1: Группа | B1: Рыночный ориентир | C1: Наша позиция | D1: Вывод | E1: Confidence | F1: Источник / логика
A2: Главный вывод | B2: Большая часть базовых строк не является рыночной китайской ценой | C2: Она механически получена из российского v6 через курс | D2: Такие строки годятся как стартовый прайс, но не как доказательство попадания в рынок | E2: B | F2: См. лист Китай_vs_Россия: статус `механическая конвертация`
A3: Pick & pack | B3: 5 RMB/order у China Fulfillment; $0.50-2.50/order как широкий China 3PL коридор | C3: Сборка/заказные операции в прайсе частично выше простого pick&pack | D3: Нормально, если продаём управляемый сервис, а не голый склад | E3: B | F3: China Fulfillment pricing + China 3PL market guide 2025/2026
A4: QC | B4: 1 RMB/item у China Fulfillment; $0.05-0.20 labeling, $0.20-1.00 kitting в China 3PL guide | C4: Детальная проверка одежды 2.68 ¥/шт из КП одежды | D4: Выше базового QC, но это детальная ручная проверка; нужна формулировка критерия | E4: A/B | F4: Прямое КП одежды + открытый China 3PL ориентир
A5: Label | B5: 0.20 RMB/item у China Fulfillment; $0.05-0.20/unit в China 3PL guide | C5: Маркировка комплектом 1.15 ¥/шт | D5: Выше простого label, но может быть в рынке для комплекта этикеток/код маркировки | E5: B | F5: Сравнивать только с одинаковым составом работ
A6: Хранение | B6: 3/6 RMB shelf/month; 40 RMB pallet/month; $5-15 pallet/month или $10-25 CBM/month | C6: Часть хранения оставлена по запросу/льготно | D6: Правильно оставить RFQ для нестандартного хранения; нужна ставка по м3/паллету при реальном складе | E6: B | F6: China Fulfillment + China 3PL market guide
A7: Упаковочные материалы | B7: 0.25-1.20 RMB по типовым пакетам/материалам у China Fulfillment | C7: Материалы в прайсе по запросу | D7: Корректно: материалы сильно зависят от размера и закупки | E7: B | F7: Открытый прайс China Fulfillment
A8: Управление/ведение | B8: Открытый рынок обычно не показывает такую услугу как складской тариф | C8: Цены из российского блока ведения, переведены в CNY | D8: Это не складской рынок, а управленческий сервис; сравнивать с маржой и временем менеджера | E8: C | F8: Внутренний тариф Станислава; нужен тест на первых клиентах
A10: Курс контроля | B10: 1 CNY = 10.4712 RUB | C10: Обновлять перед финальным коммерческим решением
A12: V10 позиционирование | B12: Цель Станислава: Китай на 20% дешевле РФ | C12: Пересчитано 57 сопоставимых строк | D12: Это коммерческое позиционирование; рыночность всё равно проверять по RFQ/первым заказам | E12: B | F12: Курс: 1 CNY = 10.4712 RUB

Sheet Сценарии
A1: Сценарий | B1: Состав | C1: Что проверяет | D1: Вывод для прайса
A2: 100 единиц одежды | B2: приёмка + детальный QC + маркировка + сканирование + упаковка | C2: Не выглядит ли Китай слишком дорогим на малом заказе | D2: Нужен отдельный расчёт перед коммерческим предложением
A3: 500 единиц одежды | B3: те же операции + планирование поставки | C3: Работает ли средний заказ без ручной скидки | D3: Проверить итоговый чек против РФ и КП одежды
A4: 1000+ единиц | B4: массовая обработка + материалы по запросу | C4: Где нужна скидка от объёма | D4: Ввести объёмный коэффициент только после 2-3 реальных кейсов
A5: Нестандартный товар | B5: хранение/упаковка/возвраты/доп. QC | C5: Какие строки нельзя фиксировать | D5: Оставлять RFQ и не обещать фикс

Sheet Источники_web
A1: Источник | B1: URL | C1: Что взято | D1: Как использовать
A2: China Fulfillment International pricing | B2: https://www.china-fulfillment.com/our-pricing.html | C2: Pick & Pack 5 RMB/order; QC 1 RMB/item; label 0.20 RMB/item; shelf/pallet storage; упаковочные материалы 0.25-1.20 RMB | D2: Жёсткий sanity-check для простых складских операций, не для управленческого сервиса Selby.
A3: HUIXIN / China 3PL cost guide | B3: https://china-3pl.com/how-much-does-a-3pl-cost-in-china/ | C3: Типовые China 3PL ranges: receiving, storage, pick&pack, VAS, returns; подчёркнута сценарная модель TCOF | D3: Использовать как рыночный коридор и напоминание, что сравнивать нужно сценарии, а не отдельные строки.
A4: BM DepotShip China 3PL calculator 2026 | B4: https://bmdepotship.com/china-3pl-pricing-calculator-2026-storage-picking-packing-shipping/ | C4: Подтверждает подход storage + picking + packing + shipping и доплаты за kitting/FBA prep/poly-bagging/labeling | D4: Использовать как вторичный ориентир; точные ставки брать только из КП/реальных складов.
A5: Внутренний benchmark Selby 2026-05-29 | B5: /root/.openclaw/agents/stanislav/workspace/out/fulfillment_research/selby_china_fulfillment_benchmark_2026-05-29_with_clothing_quote.xlsx | C5: КП одежды, raw rows, рекомендованный китайский прайс и сценарии | D5: Основной внутренний источник, выше по весу, чем открытые сайты.

Sheet Китай_vs_Россия
A1: Услуга | B1: Ед. изм. | C1: RU цена, ₽ | D1: CN цена, ¥ | E1: CN в ₽ | F1: Разница CN к RU | G1: Статус | H1: Комментарий
A2: Приёмка товара на склад (в штуках) | B2: ¥/шт | C2: 3.26 | D2: 0.25 | E2: 2.62 | F2: -0.19631902 | G2: Китай -20% к РФ | H2: Целевая логика v10: сопоставимая строка должна быть на 20% ниже РФ.
A3: Приёмка товара на склад (в коробках) | B3: ¥/короб | C3: 8.7 | D3: 0.66 | E3: 6.91 | F3: -0.20574713 | G3: Китай -20% к РФ | H3: Целевая логика v10: сопоставимая строка должна быть на 20% ниже РФ.
A4: Визуальный осмотр товара на брак | B4: ¥ | C4: 5.43 | D4: 0.41 | E4: 4.29 | F4: -0.20994475 | G4: Китай -20% к РФ | H4: Целевая логика v10: сопоставимая строка должна быть на 20% ниже РФ.
A5: Детальный осмотр (выявление брака, проверка комплекта и др.) | B5: ¥ | C5: 10.87 | D5: 0.83 | E5: 8.69 | F5: -0.20055198 | G5: Китай -20% к РФ | H5: Целевая логика v10: сопоставимая строка должна быть на 20% ниже РФ.
A6: Проверка товара на брак электромеханических приборов (проверка от сети, от аккумуляторов) | B6: ¥ | C6: 15.22 | D6: 1.16 | E6: 12.15 | F6: -0.20170828 | G6: Китай -20% к РФ | H6: Целевая логика v10: сопоставимая строка должна быть на 20% ниже РФ.
A7: Категория 1 (до 20 см) | B7: ¥ | C7: 10.87 | D7: 0.83 | E7: 8.69 | F7: -0.20055198 | G7: Китай -20% к РФ | H7: Целевая логика v10: сопоставимая строка должна быть на 20% ниже РФ.
A8: Категория 2 (до 40 см) | B8: ¥ | C8: 15.22 | D8: 1.16 | E8: 12.15 | F8: -0.20170828 | G8: Китай -20% к РФ | H8: Целевая логика v10: сопоставимая строка должна быть на 20% ниже РФ.
A9: Категория 3 (до 60 см) | B9: ¥ | C9: 19.57 | D9: 1.5 | E9: 15.71 | F9: -0.19724067 | G9: Китай -20% к РФ | H9: Целевая логика v10: сопоставимая строка должна быть на 20% ниже РФ.
A10: Категория 4 (до 80 см) | B10: ¥ | C10: 23.91 | D10: 1.83 | E10: 19.16 | F10: -0.19866165 | G10: Китай -20% к РФ | H10: Целевая логика v10: сопоставимая строка должна быть на 20% ниже РФ.
A11: Категория 5 (до 100 см) | B11: ¥ | C11: 28.26 | D11: 2.16 | E11: 22.62 | F11: -0.19957537 | G11: Китай -20% к РФ | H11: Целевая логика v10: сопоставимая строка должна быть на 20% ниже РФ.
A12: Категория 6 (до 130 см) | B12: ¥ | C12: 33.7 | D12: 2.57 | E12: 26.91 | F12: -0.20148368 | G12: Китай -20% к РФ | H12: Целевая логика v10: сопоставимая строка должна быть на 20% ниже РФ.
A13: Категория 7 (до 150 см) | B13: ¥ | C13: 38.04 | D13: 2.91 | E13: 30.47 | F13: -0.19900105 | G13: Китай -20% к РФ | H13: Целевая логика v10: сопоставимая строка должна быть на 20% ниже РФ.
... A58: Биркодержатель (нить/пластик) | B58: RFQ | C58: 1.5 | D58: 0.11 | E58: 1.15 | F58: -0.23333333 | G58: Китай дешевле >20% | H58: Целевая логика v10: сопоставимая строка должна быть на 20% ниже РФ.
